BEGIN:VCALENDAR
VERSION:2.0
PRODID:-//wp-events-plugin.com//7.2.3.1//EN
TZID:America/New_York
X-WR-TIMEZONE:America/New_York
BEGIN:VEVENT
UID:81@lisburnfire.org
DTSTART;TZID=America/New_York;VALUE=DATE:20261205
DTEND;TZID=America/New_York;VALUE=DATE:20261206
DTSTAMP:20260302T165937Z
URL:https://www.lisburnfire.org/events/pancakes-with-santa/
SUMMARY:Pancakes with Santa
DESCRIPTION:
CATEGORIES:Community
LOCATION:Social Hall\, 1800 Main St.\, Mechanicsburg\, PA\, 17050\, United 
 States
X-APPLE-STRUCTURED-LOCATION;VALUE=URI;X-ADDRESS=1800 Main St.\, Mechanicsbu
 rg\, PA\, 17050\, United States;X-APPLE-RADIUS=100;X-TITLE=Social Hall:geo
 :0,0
END:VEVENT
BEGIN:VTIMEZONE
TZID:America/New_York
X-LIC-LOCATION:America/New_York
BEGIN:STANDARD
DTSTART:20261101T010000
TZOFFSETFROM:-0400
TZOFFSETTO:-0500
TZNAME:EST
END:STANDARD
END:VTIMEZONE
END:VCALENDAR