BEGIN:VCALENDAR
VERSION:2.0
PRODID:-//wp-events-plugin.com//7.2.3.1//EN
TZID:America/New_York
X-WR-TIMEZONE:America/New_York
BEGIN:VEVENT
UID:75@lisburnfire.org
DTSTART;TZID=America/New_York:20260404T130000
DTEND;TZID=America/New_York:20260404T140000
DTSTAMP:20260316T113353Z
URL:https://www.lisburnfire.org/events/easter-egg-hunt/
SUMMARY:Easter Egg Hunt
DESCRIPTION:Come join us for our Annual Easter Egg Hunt. All children 12 an
 d under are welcome. We do by age groups instead of a free-for-all\, and a
 ll get a bag of goodies.&nbsp\;
CATEGORIES:Community
LOCATION:Fairgrounds\, 1800 Main St.\, Mechanicsburg\, PA\, 17050\, United 
 States
X-APPLE-STRUCTURED-LOCATION;VALUE=URI;X-ADDRESS=1800 Main St.\, Mechanicsbu
 rg\, PA\, 17050\, United States;X-APPLE-RADIUS=100;X-TITLE=Fairgrounds:geo
 :0,0
END:VEVENT
BEGIN:VTIMEZONE
TZID:America/New_York
X-LIC-LOCATION:America/New_York
BEGIN:DAYLIGHT
DTSTART:20260308T030000
TZOFFSETFROM:-0500
TZOFFSETTO:-0400
TZNAME:EDT
END:DAYLIGHT
END:VTIMEZONE
END:VCALENDAR