BEGIN:VCALENDAR
VERSION:2.0
PRODID:-//wp-events-plugin.com//7.2.3.1//EN
TZID:America/New_York
X-WR-TIMEZONE:America/New_York
BEGIN:VEVENT
UID:70@lisburnfire.org
DTSTART;TZID=America/New_York:20251004T100000
DTEND;TZID=America/New_York:20251004T140000
DTSTAMP:20250830T180137Z
URL:https://www.lisburnfire.org/events/community-day/
SUMMARY:Community Day
DESCRIPTION:\n\n&nbsp\;
CATEGORIES:Community
LOCATION:Fairgrounds\, 1800 Main St.\, Mechanicsburg\, PA\, 17050\, United 
 States
X-APPLE-STRUCTURED-LOCATION;VALUE=URI;X-ADDRESS=1800 Main St.\, Mechanicsbu
 rg\, PA\, 17050\, United States;X-APPLE-RADIUS=100;X-TITLE=Fairgrounds:geo
 :0,0
END:VEVENT
BEGIN:VTIMEZONE
TZID:America/New_York
X-LIC-LOCATION:America/New_York
BEGIN:DAYLIGHT
DTSTART:20250309T030000
TZOFFSETFROM:-0500
TZOFFSETTO:-0400
TZNAME:EDT
END:DAYLIGHT
END:VTIMEZONE
END:VCALENDAR