BEGIN:VCALENDAR
VERSION:2.0
PRODID:-//wp-events-plugin.com//7.2.3.1//EN
TZID:America/New_York
X-WR-TIMEZONE:America/New_York
BEGIN:VEVENT
UID:69@lisburnfire.org
DTSTART;TZID=America/New_York:20251111T120000
DTEND;TZID=America/New_York:20251111T120000
DTSTAMP:20250830T175909Z
URL:https://www.lisburnfire.org/events/annual-sportsman-raffle/
SUMMARY:Annual Sportsman Raffle
DESCRIPTION:\n\n&nbsp\;
CATEGORIES:Fundraiser
LOCATION:Social Hall\, 1800 Main St.\, Mechanicsburg\, PA\, 17050\, United 
 States
X-APPLE-STRUCTURED-LOCATION;VALUE=URI;X-ADDRESS=1800 Main St.\, Mechanicsbu
 rg\, PA\, 17050\, United States;X-APPLE-RADIUS=100;X-TITLE=Social Hall:geo
 :0,0
END:VEVENT
BEGIN:VTIMEZONE
TZID:America/New_York
X-LIC-LOCATION:America/New_York
BEGIN:STANDARD
DTSTART:20251102T010000
TZOFFSETFROM:-0400
TZOFFSETTO:-0500
TZNAME:EST
END:STANDARD
END:VTIMEZONE
END:VCALENDAR